BEGIN:VCALENDAR
VERSION:2.0
PRODID:-//Ayuntamiento de Casavieja - ECPv6.15.20//NONSGML v1.0//EN
CALSCALE:GREGORIAN
METHOD:PUBLISH
X-ORIGINAL-URL:https://ayuntamientodecasavieja.es
X-WR-CALDESC:Eventos para Ayuntamiento de Casavieja
REFRESH-INTERVAL;VALUE=DURATION:PT1H
X-Robots-Tag:noindex
X-PUBLISHED-TTL:PT1H
BEGIN:VTIMEZONE
TZID:Europe/Madrid
BEGIN:DAYLIGHT
TZOFFSETFROM:+0100
TZOFFSETTO:+0200
TZNAME:CEST
DTSTART:20230326T010000
END:DAYLIGHT
BEGIN:STANDARD
TZOFFSETFROM:+0200
TZOFFSETTO:+0100
TZNAME:CET
DTSTART:20231029T010000
END:STANDARD
BEGIN:DAYLIGHT
TZOFFSETFROM:+0100
TZOFFSETTO:+0200
TZNAME:CEST
DTSTART:20240331T010000
END:DAYLIGHT
BEGIN:STANDARD
TZOFFSETFROM:+0200
TZOFFSETTO:+0100
TZNAME:CET
DTSTART:20241027T010000
END:STANDARD
BEGIN:DAYLIGHT
TZOFFSETFROM:+0100
TZOFFSETTO:+0200
TZNAME:CEST
DTSTART:20250330T010000
END:DAYLIGHT
BEGIN:STANDARD
TZOFFSETFROM:+0200
TZOFFSETTO:+0100
TZNAME:CET
DTSTART:20251026T010000
END:STANDARD
END:VTIMEZONE
BEGIN:VEVENT
DTSTART;TZID=Europe/Madrid:20240419T200000
DTEND;TZID=Europe/Madrid:20240419T210000
DTSTAMP:20260423T014322
CREATED:20240415T110742Z
LAST-MODIFIED:20240416T081946Z
UID:13629-1713556800-1713560400@ayuntamientodecasavieja.es
SUMMARY:Presentación de libros
DESCRIPTION:Este viernes 19 de Abril a las 20:00h en la Sala de Exposiciones «Casa del Secretario» tendrá lugar la presentación de los libros: \n– «Contigo volvió la lluvia» De nuestra vecina piedralaveña\, Celia Sierra \n– «Urko\, el Vettón» Alfredo González Tejado\, desde Hoyos del Espino.
URL:https://ayuntamientodecasavieja.es/event/presentacion-de-libros/
LOCATION:Sala de exposiciones «Casa del Secretario»\, Avenida Castilla y León\, 10\, Casavieja\, Ávila\, 05450\, España
CATEGORIES:Cultura
ATTACH;FMTTYPE=image/jpeg:https://ayuntamientodecasavieja.es/wp-content/uploads/2024/04/Presentacion-de-libros.jpg
END:VEVENT
BEGIN:VEVENT
DTSTART;TZID=Europe/Madrid:20240420T210000
DTEND;TZID=Europe/Madrid:20240420T220000
DTSTAMP:20260423T014322
CREATED:20240220T091620Z
LAST-MODIFIED:20240411T122303Z
UID:13172-1713646800-1713650400@ayuntamientodecasavieja.es
SUMMARY:Tributo Folk a Joaquín Díaz
DESCRIPTION:Segunda parada de la programación de los Circuitos Escénicos 2024:\nTRIBUTO FOLK A JOAQUÍN DÍAZ POR VANESA MUELA Y CRISPIN D’OLOT \nDetrás de cada persona se esconde una historia real. ¿Quieres saber más acerca del trabajo de Joaquín Díaz y conocer en vivo su legado musical? Dos grandes artistas se han unido para mostrarte un recorrido nada convencional por la obra de un artista fundamental de nuestro tiempo. \nEL ESPECTÁCULO \nDeseamos ofrecer lo mejor de Joaquín siempre. Tanto en la selección de temas como en la de instrumentos musicales hemos intentado reflejar su fielmente su obra pero innovando y añadiendo nuestra gran experiencia artística. Antes de cada romance Joaquín está presente con una anécdota\, una foto\, una proyección que amablemente nos ha cedido. \nLOS ARTISTAS \nVanesa Muela \nCantante y percusionista de Laguna de Duero (Valladolid)\, nacida el 10 de Junio de 1978. Más de 3.000 conciertos en todo el territorio nacional y en países como Portugal\, Italia\, Alemania\, Austria\, Francia o Grecia ponen de manifiesto la intensa actividad de Vanesa Muela en estos años. \nCrispín d’Olot \nActor y músico de La Bañeza (León)\, nacido el 03 de Enero de 1971. Su labor en campo de las artes escénicas ha merecido reconocimiento internacional siendo considerado un referente cultural único en el mundo de las artes escénicas. \nGénero: Música. Estilo: Contemporánea-folk. Duración: 60 min. \nEspectáculo incluido en la programación de Circuitos Escénicos de Castilla y León. \nPrecios:\n3€ general\n2€. menores de 16 años  \nLa recaudación integra irá destinada a la mejora de La Almazara
URL:https://ayuntamientodecasavieja.es/event/tributo-folk-a-joaquin-diaz/
LOCATION:Edificio Polivalente «La Almazara»\, C/ Plazuela\, Casavieja\, Ávila\, 05450\, España
CATEGORIES:Cultura,Ocio
ATTACH;FMTTYPE=image/png:https://ayuntamientodecasavieja.es/wp-content/uploads/2024/02/Tributo-folk-20A.png
END:VEVENT
BEGIN:VEVENT
DTSTART;TZID=Europe/Madrid:20240421T120000
DTEND;TZID=Europe/Madrid:20240421T130000
DTSTAMP:20260423T014322
CREATED:20240415T090831Z
LAST-MODIFIED:20240415T090831Z
UID:13619-1713700800-1713704400@ayuntamientodecasavieja.es
SUMMARY:Presentación de Los Cuentos de Marieta
DESCRIPTION:El domingo 21 a las 12:00 en la sala de exposiciones » Casa del secretario» de Casavieja
URL:https://ayuntamientodecasavieja.es/event/presentacion-de-los-cuentos-de-marieta/
LOCATION:Sala de exposiciones «Casa del Secretario»\, Avenida Castilla y León\, 10\, Casavieja\, Ávila\, 05450\, España
CATEGORIES:Cultura
ATTACH;FMTTYPE=image/jpeg:https://ayuntamientodecasavieja.es/wp-content/uploads/2024/04/los-cuentos-de-marieta.jpg
END:VEVENT
END:VCALENDAR