BEGIN:VCALENDAR
VERSION:2.0
PRODID:-//Ayuntamiento de Casavieja - ECPv6.15.20//NONSGML v1.0//EN
CALSCALE:GREGORIAN
METHOD:PUBLISH
X-WR-CALNAME:Ayuntamiento de Casavieja
X-ORIGINAL-URL:https://ayuntamientodecasavieja.es
X-WR-CALDESC:Eventos para Ayuntamiento de Casavieja
REFRESH-INTERVAL;VALUE=DURATION:PT1H
X-Robots-Tag:noindex
X-PUBLISHED-TTL:PT1H
BEGIN:VTIMEZONE
TZID:Europe/Madrid
BEGIN:DAYLIGHT
TZOFFSETFROM:+0100
TZOFFSETTO:+0200
TZNAME:CEST
DTSTART:20230326T010000
END:DAYLIGHT
BEGIN:STANDARD
TZOFFSETFROM:+0200
TZOFFSETTO:+0100
TZNAME:CET
DTSTART:20231029T010000
END:STANDARD
BEGIN:DAYLIGHT
TZOFFSETFROM:+0100
TZOFFSETTO:+0200
TZNAME:CEST
DTSTART:20240331T010000
END:DAYLIGHT
BEGIN:STANDARD
TZOFFSETFROM:+0200
TZOFFSETTO:+0100
TZNAME:CET
DTSTART:20241027T010000
END:STANDARD
BEGIN:DAYLIGHT
TZOFFSETFROM:+0100
TZOFFSETTO:+0200
TZNAME:CEST
DTSTART:20250330T010000
END:DAYLIGHT
BEGIN:STANDARD
TZOFFSETFROM:+0200
TZOFFSETTO:+0100
TZNAME:CET
DTSTART:20251026T010000
END:STANDARD
END:VTIMEZONE
BEGIN:VEVENT
DTSTART;TZID=Europe/Madrid:20240713T223000
DTEND;TZID=Europe/Madrid:20240713T233000
DTSTAMP:20260422T201542
CREATED:20240627T090949Z
LAST-MODIFIED:20240628T105953Z
UID:14066-1720909800-1720913400@ayuntamientodecasavieja.es
SUMMARY:Espectáculo familiar - Mago Dalvi
DESCRIPTION:
URL:https://ayuntamientodecasavieja.es/event/espectaculo-familiar-mago-dalvi/
LOCATION:Plaza de San Bartolomé\, Plaza de San Bartolomé\, Casavieja\, Ávila\, 05450\, España
CATEGORIES:Cultura,Ocio
ATTACH;FMTTYPE=image/png:https://ayuntamientodecasavieja.es/wp-content/uploads/2024/06/Mago-dalvi-1.png
END:VEVENT
BEGIN:VEVENT
DTSTART;TZID=Europe/Madrid:20240719T230000
DTEND;TZID=Europe/Madrid:20240720T003000
DTSTAMP:20260422T201542
CREATED:20240627T092041Z
LAST-MODIFIED:20240628T122325Z
UID:14069-1721430000-1721435400@ayuntamientodecasavieja.es
SUMMARY:Espectáculo de danza - Variety The Vicals
DESCRIPTION:Variety The Vicals\, un espectáculo de danza de la escuela Bea Danza
URL:https://ayuntamientodecasavieja.es/event/espectaculo-de-danza-variety-the-vicals/
LOCATION:Plaza de los Tejares\, Plaza de los Tejares\, Casavieja\, Ávila\, 05450\, España
CATEGORIES:Cultura,Ocio
ATTACH;FMTTYPE=image/png:https://ayuntamientodecasavieja.es/wp-content/uploads/2024/06/danza-vicals-1.png
END:VEVENT
BEGIN:VEVENT
DTSTART;TZID=Europe/Madrid:20240728T110000
DTEND;TZID=Europe/Madrid:20240728T130000
DTSTAMP:20260422T201542
CREATED:20240718T080124Z
LAST-MODIFIED:20240723T082048Z
UID:14196-1722164400-1722171600@ayuntamientodecasavieja.es
SUMMARY:Proyección película incendios forestales
DESCRIPTION:Proyección Película sobre Incendios Forestales y posterior análisis \nPor Jose Pedro Hernandez Caballero\, Capataz Bombero Forestal \nDomingo 28 de julio 11:00 am – Sala de exposiciones «Casa del Secretario»
URL:https://ayuntamientodecasavieja.es/event/proyeccion-pelicula-incendios-forestales/
LOCATION:Sala de exposiciones «Casa del Secretario»\, Avenida Castilla y León\, 10\, Casavieja\, Ávila\, 05450\, España
CATEGORIES:Cultura,Ocio
ATTACH;FMTTYPE=image/jpeg:https://ayuntamientodecasavieja.es/wp-content/uploads/2024/07/pelicula-incendios-forestales-2024.jpg
END:VEVENT
END:VCALENDAR