BEGIN:VCALENDAR
VERSION:2.0
PRODID:-//Ayuntamiento de Casavieja - ECPv6.15.20//NONSGML v1.0//EN
CALSCALE:GREGORIAN
METHOD:PUBLISH
X-WR-CALNAME:Ayuntamiento de Casavieja
X-ORIGINAL-URL:https://ayuntamientodecasavieja.es
X-WR-CALDESC:Eventos para Ayuntamiento de Casavieja
REFRESH-INTERVAL;VALUE=DURATION:PT1H
X-Robots-Tag:noindex
X-PUBLISHED-TTL:PT1H
BEGIN:VTIMEZONE
TZID:Europe/Madrid
BEGIN:DAYLIGHT
TZOFFSETFROM:+0100
TZOFFSETTO:+0200
TZNAME:CEST
DTSTART:20240331T010000
END:DAYLIGHT
BEGIN:STANDARD
TZOFFSETFROM:+0200
TZOFFSETTO:+0100
TZNAME:CET
DTSTART:20241027T010000
END:STANDARD
BEGIN:DAYLIGHT
TZOFFSETFROM:+0100
TZOFFSETTO:+0200
TZNAME:CEST
DTSTART:20250330T010000
END:DAYLIGHT
BEGIN:STANDARD
TZOFFSETFROM:+0200
TZOFFSETTO:+0100
TZNAME:CET
DTSTART:20251026T010000
END:STANDARD
BEGIN:DAYLIGHT
TZOFFSETFROM:+0100
TZOFFSETTO:+0200
TZNAME:CEST
DTSTART:20260329T010000
END:DAYLIGHT
BEGIN:STANDARD
TZOFFSETFROM:+0200
TZOFFSETTO:+0100
TZNAME:CET
DTSTART:20261025T010000
END:STANDARD
END:VTIMEZONE
BEGIN:VEVENT
DTSTART;VALUE=DATE:20250502
DTEND;VALUE=DATE:20250505
DTSTAMP:20260422T043436
CREATED:20250407T120853Z
LAST-MODIFIED:20250407T120853Z
UID:19566-1746144000-1746403199@ayuntamientodecasavieja.es
SUMMARY:Curso de Sevillanas intensivo
DESCRIPTION:El Ayuntamiento de Casavieja invita a todos los vecinos a disfrutar de un curso intensivo de sevillanas\, un fin de semana lleno de ritmo y tradición flamenca.\nEste curso está diseñado para todas las edades\, ¡sin importar tu experiencia previa! \nFechas: 2 y 4 de mayo\nDuración: 4 horas\nUbicación: Sala polivalente Centro Médico – 1ª planta\nPlazas limitadas — Inscríbete lo antes posible.\nContacto para inscripciones: 677 780 994
URL:https://ayuntamientodecasavieja.es/event/curso-de-sevillanas-intensivo/
LOCATION:Sala Polivalente Centro Médico\, c/ Nueva 27\, 1ª Planta\, Casavieja\, Ávila\, 05450\, Spain
CATEGORIES:Cultura
ATTACH;FMTTYPE=image/jpeg:https://ayuntamientodecasavieja.es/wp-content/uploads/2025/04/Curso-de-Sevillanas-intensivo.jpeg
END:VEVENT
BEGIN:VEVENT
DTSTART;VALUE=DATE:20250509
DTEND;VALUE=DATE:20250512
DTSTAMP:20260422T043436
CREATED:20250430T082535Z
LAST-MODIFIED:20250430T082548Z
UID:19662-1746748800-1747007999@ayuntamientodecasavieja.es
SUMMARY:Exposición de hierbas y plantas medicinales
DESCRIPTION:El Ayuntamiento de Casavieja colabora con el Grupo de Mujeres de Casavieja en la organización de una exposición muy especial que se celebrará el fin de semana del 9\, 10 y 11 de mayo. \nDe la mano de Julita\, vecina y amiga del municipio\, os invitamos a disfrutar de esta muestra cargada de primavera\, color y creatividad.
URL:https://ayuntamientodecasavieja.es/event/exposicion-hierbas-plantas-medicinales/
LOCATION:Sala de exposiciones «Casa del Secretario»\, Avenida Castilla y León\, 10\, Casavieja\, Ávila\, 05450\, España
CATEGORIES:Cultura,Ocio
ATTACH;FMTTYPE=image/jpeg:https://ayuntamientodecasavieja.es/wp-content/uploads/2025/04/exposicion-hierbas-medicinales.jpg
END:VEVENT
BEGIN:VEVENT
DTSTART;TZID=Europe/Madrid:20250510T110000
DTEND;TZID=Europe/Madrid:20250510T200000
DTSTAMP:20260422T043436
CREATED:20250409T083342Z
LAST-MODIFIED:20250509T105405Z
UID:19578-1746874800-1746907200@ayuntamientodecasavieja.es
SUMMARY:II Feria Agroalimentación y Artesanía
DESCRIPTION:La tradicional feria de Casavieja\, adaptada a los nuevos tiempos pero con el mismo espíritu de siempre. \nEl Ayuntamiento de Casavieja junto a Estación del Arte Gredos organiza el próximo 10 de mayo en Las Eras la segunda feria agroalimentaria\, para disfrutar de un día completo con Artesanía\, Alimentación\, Restauración\, Concurso hípico de saltos\, exhibición de ganado y ecuestre. \nHorario: de 11:00 a 20:00 h \nUn evento abierto a todos los públicos\, con entrada libre.  \nOrganiza: Ayuntamiento de Casavieja junto a Estación del Arte Gredos\nColabora: Hípica El Vallejo \n \nPara cerrar por todo lo alto la II Feria Agroalimentaria y de Artesanía\, contaremos con la actuación en directo de La Casavieja Rock Band. \n \n\n¿Quieres formar parte como expositor? Si tienes un comercio o proyecto\, ya puedes solicitar tu stand para dar a conocer tus productos y servicios. \nFormulario: https://forms.gle/gqMLB2RY3fuqtttFAMás información: 722 748 816 \nLos bares\, restaurantes y negocios de hostelería del municipio interesados en poner una barra en la feria\, pueden inscribirse directamente en el Ayuntamiento. \nInscripciones hasta el 24 de abril
URL:https://ayuntamientodecasavieja.es/event/2-feria-agroalimentaria/
LOCATION:Las Eras
CATEGORIES:Cultura,Ocio,Turismo
ATTACH;FMTTYPE=image/jpeg:https://ayuntamientodecasavieja.es/wp-content/uploads/2025/04/feria-artesania-2025.jpeg
END:VEVENT
BEGIN:VEVENT
DTSTART;TZID=Europe/Madrid:20250517T170000
DTEND;TZID=Europe/Madrid:20250517T183000
DTSTAMP:20260422T043436
CREATED:20250430T092257Z
LAST-MODIFIED:20250430T092257Z
UID:19667-1747501200-1747506600@ayuntamientodecasavieja.es
SUMMARY:Presentación libro: La Hadita y los minerales
DESCRIPTION:Presentación del libro «La Hadita y los minerales» \nEl sábado 17 de mayo a las 17:00 h\, os invitamos a la presentación del cuento «La Hadita y los minerales»\, de la mano de su autora Ruth Ramírez y la ilustradora Alicia Gonzales Rosas. \nLugar: Sala de Exposiciones de CasaviejaUn encuentro para descubrir\, imaginar y aprender en familia. \nColabora: Ayuntamiento de Casavieja
URL:https://ayuntamientodecasavieja.es/event/presentacion-la-hadita-los-minerales/
LOCATION:Sala de exposiciones «Casa del Secretario»\, Avenida Castilla y León\, 10\, Casavieja\, Ávila\, 05450\, España
CATEGORIES:Cultura,Ocio
ATTACH;FMTTYPE=image/jpeg:https://ayuntamientodecasavieja.es/wp-content/uploads/2025/04/Presentacion-libro-La-Hadita-y-los-minerales.jpeg
END:VEVENT
BEGIN:VEVENT
DTSTART;TZID=Europe/Madrid:20250529T120000
DTEND;TZID=Europe/Madrid:20250529T130000
DTSTAMP:20260422T043436
CREATED:20250225T155648Z
LAST-MODIFIED:20250526T104833Z
UID:17934-1748520000-1748523600@ayuntamientodecasavieja.es
SUMMARY:Gloria para todos
DESCRIPTION:Jueves 29 de Mayo a las 12 del medio día en La Almazara\, tendrá lugar el espectáculo infantil «GLORIA PARA TODOS» de la Compañía: Artilugio Infantil   \n\nGloria para todos\, es un espectáculo pensado para poner al alcance del público infantil la obra poética de Gloria Fuertes. \nCon un lenguaje llano\, combinando música\, manipulación de objetos y marionetas\, los actores -fieles a la pretensión de Gloria Fuertes al escribir para niños: pasárselo bien y por extensión que sus lectores se diviertan-\, van desvelando la sensibilidad\, la imaginación\, la rebeldía y el humor de la autora. \nGloria lo dejó dicho: las historias que escribo para niños\, no las escribo para ayudarles a dormir\, las escribo para ayudarles a soñar. \nDuración: 50 min. \n 
URL:https://ayuntamientodecasavieja.es/event/gloria-para-todos/
LOCATION:Edificio Polivalente «La Almazara»\, C/ Plazuela\, Casavieja\, Ávila\, 05450\, España
CATEGORIES:Cultura,Ocio
ATTACH;FMTTYPE=image/png:https://ayuntamientodecasavieja.es/wp-content/uploads/2025/02/CircuitosEscenicos-GloriaParaTodos.png
END:VEVENT
END:VCALENDAR