BEGIN:VCALENDAR
VERSION:2.0
PRODID:-//Ayuntamiento de Casavieja - ECPv6.15.20//NONSGML v1.0//EN
CALSCALE:GREGORIAN
METHOD:PUBLISH
X-ORIGINAL-URL:https://ayuntamientodecasavieja.es
X-WR-CALDESC:Eventos para Ayuntamiento de Casavieja
REFRESH-INTERVAL;VALUE=DURATION:PT1H
X-Robots-Tag:noindex
X-PUBLISHED-TTL:PT1H
BEGIN:VTIMEZONE
TZID:Europe/Madrid
BEGIN:DAYLIGHT
TZOFFSETFROM:+0100
TZOFFSETTO:+0200
TZNAME:CEST
DTSTART:20240331T010000
END:DAYLIGHT
BEGIN:STANDARD
TZOFFSETFROM:+0200
TZOFFSETTO:+0100
TZNAME:CET
DTSTART:20241027T010000
END:STANDARD
BEGIN:DAYLIGHT
TZOFFSETFROM:+0100
TZOFFSETTO:+0200
TZNAME:CEST
DTSTART:20250330T010000
END:DAYLIGHT
BEGIN:STANDARD
TZOFFSETFROM:+0200
TZOFFSETTO:+0100
TZNAME:CET
DTSTART:20251026T010000
END:STANDARD
BEGIN:DAYLIGHT
TZOFFSETFROM:+0100
TZOFFSETTO:+0200
TZNAME:CEST
DTSTART:20260329T010000
END:DAYLIGHT
BEGIN:STANDARD
TZOFFSETFROM:+0200
TZOFFSETTO:+0100
TZNAME:CET
DTSTART:20261025T010000
END:STANDARD
END:VTIMEZONE
BEGIN:VEVENT
DTSTART;VALUE=DATE:20250605
DTEND;VALUE=DATE:20250707
DTSTAMP:20260422T025254
CREATED:20250604T133019Z
LAST-MODIFIED:20250625T063103Z
UID:19811-1749081600-1751846399@ayuntamientodecasavieja.es
SUMMARY:ItinerArte 2025
DESCRIPTION:Una ventana al arte clásico en el corazón del Valle del Tiétar \nDel 5 de junio al 6 de julio de 2025\, Casavieja acoge la exposición ItinerArte\, un proyecto cultural impulsado por la Fundación Ávila y la Diputación Provincial de Ávila\, que tiene como objetivo acercar el arte a todos los rincones de la provincia. \nLa muestra\, titulada “Maestros del ayer”\, reúne obras de reconocidos artistas con una profunda conexión con Ávila\, como Benjamín Palencia\, Eduardo Chicharro\, José María López Mezquita y Eduardo Martínez Vázquez. La exposición podrá disfrutarse en varios municipios abulenses a lo largo de este año. \nLa inauguración oficial tendrá lugar mañana\, 5 de junio\, a las 11:00 h\, y contará con la presencia del diputado provincial de Cultura\, Don Javier Gonzalo Sánchez. \n\nEL VIERNES 27 JUNIO LA EXPOSICIÓN PERMANECERÁ CERRADA \n\nEn Casavieja\, la exposición se ubicará en la Sala de Exposiciones “Casa del Secretario” y permanecerá abierta desde el 6 de junio hasta el 6 de julio\, con el siguiente horario: \n\nViernes: de 17:30 a 20:00 h\nSábados: de 10:00 a 13:30 h y de 17:30 a 20:00 h\nDomingos: de 10:00 a 13:30 h\n\n\nInvitamos a todos los vecinos y visitantes a disfrutar de esta oportunidad única de acercarse al arte clásico sin salir de Casavieja. Una experiencia enriquecedora que conecta nuestro entorno rural con la riqueza cultural de la provincia.
URL:https://ayuntamientodecasavieja.es/event/itinerarte-2025/
LOCATION:Sala de exposiciones «Casa del Secretario»\, Avenida Castilla y León\, 10\, Casavieja\, Ávila\, 05450\, España
CATEGORIES:Cultura,Turismo
ATTACH;FMTTYPE=image/jpeg:https://ayuntamientodecasavieja.es/wp-content/uploads/2025/06/Itinerarte-2025.jpg
END:VEVENT
BEGIN:VEVENT
DTSTART;VALUE=DATE:20250613
DTEND;VALUE=DATE:20250616
DTSTAMP:20260422T025254
CREATED:20250609T074059Z
LAST-MODIFIED:20250609T074149Z
UID:19824-1749772800-1750031999@ayuntamientodecasavieja.es
SUMMARY:Exposición de Amigurumi
DESCRIPTION:Del 13 al 15 de junio te invitamos a visitar la exposición de amigurumi organizada por el Grupo de Mujeres de Casavieja\, con la colaboración del Ayuntamiento. \nDurante todo el curso\, las participantes han estado aprendiendo y perfeccionando esta técnica de crochet\, y ahora comparten con todos nosotros el resultado de su trabajo: ¡una muestra llena de creatividad\, detalle y mucho cariño! \nCentro Polivalente de la Almazara
URL:https://ayuntamientodecasavieja.es/event/exposicion-de-amigurumi/
LOCATION:Edificio Polivalente «La Almazara»\, C/ Plazuela\, Casavieja\, Ávila\, 05450\, España
CATEGORIES:Cultura,Ocio
ATTACH;FMTTYPE=image/jpeg:https://ayuntamientodecasavieja.es/wp-content/uploads/2025/06/Exposicion-de-Amigurumi.jpg
END:VEVENT
BEGIN:VEVENT
DTSTART;TZID=Europe/Madrid:20250621T230000
DTEND;TZID=Europe/Madrid:20250622T003000
DTSTAMP:20260422T025254
CREATED:20250612T154030Z
LAST-MODIFIED:20250612T154135Z
UID:20032-1750546800-1750552200@ayuntamientodecasavieja.es
SUMMARY:Espectáculo de danza – Variety The Vicals
DESCRIPTION:El espectáculo de danza Variety The Vicals\, de la escuela Bea Danza\, vuelve a Casavieja el sábado 21 de junio a las 23:00 h en la Plaza de San Bartolomé. \nUna noche para disfrutar del talento y la pasión por la danza. ¡No te lo pierdas!
URL:https://ayuntamientodecasavieja.es/event/danza-variety-the-vicals-25/
LOCATION:Plaza de San Bartolomé\, Plaza de San Bartolomé\, Casavieja\, Ávila\, 05450\, España
CATEGORIES:Cultura,Música,Ocio
ATTACH;FMTTYPE=image/jpeg:https://ayuntamientodecasavieja.es/wp-content/uploads/2025/06/Variety-The-Vicals.jpeg
END:VEVENT
BEGIN:VEVENT
DTSTART;TZID=Europe/Madrid:20250627T203000
DTEND;TZID=Europe/Madrid:20250627T213000
DTSTAMP:20260422T025254
CREATED:20250604T092153Z
LAST-MODIFIED:20250623T072956Z
UID:19804-1751056200-1751059800@ayuntamientodecasavieja.es
SUMMARY:Presentación Cartel Feria Taurina 2025
DESCRIPTION:Presentación oficial de la Feria Taurina de Casavieja 2025\nEl Ayuntamiento de Casavieja\, en colaboración con la empresa Infinitauro\, celebrará el próximo 27 de junio a las 20.30h la presentación oficial de los carteles de la Feria Taurina 2025\, un evento consolidado como referente en el Valle del Tiétar. \nDurante el acto se darán a conocer los detalles de esta edición\, en la que se instaurará por primera vez el trofeo Zarramache de Esparto\, símbolo de homenaje a la cultura y tradición taurina de nuestra localidad. La feria contará con la participación de destacados novilleros del escalafón y ganaderías de reconocido prestigio\, así como la presencia de la rejoneadora portuguesa Ana Rita en la gran final mixta.
URL:https://ayuntamientodecasavieja.es/event/presentacion-cartel-feria-taurina-2025/
LOCATION:Sala de exposiciones «Casa del Secretario»\, Avenida Castilla y León\, 10\, Casavieja\, Ávila\, 05450\, España
CATEGORIES:Cultura,Turismo
ATTACH;FMTTYPE=image/jpeg:https://ayuntamientodecasavieja.es/wp-content/uploads/2025/06/Presentacion-Cartel-Feria-Taurina-2025.jpeg
END:VEVENT
BEGIN:VEVENT
DTSTART;TZID=Europe/Madrid:20250628T223000
DTEND;TZID=Europe/Madrid:20250628T233000
DTSTAMP:20260422T025254
CREATED:20250225T155842Z
LAST-MODIFIED:20250624T073408Z
UID:17936-1751149800-1751153400@ayuntamientodecasavieja.es
SUMMARY:El Mago de Oz
DESCRIPTION:Sábado 28 de junio «EL MAGO DE OZ»  \nLa Compañía de Teatro Ptclam\, presenta su adaptación de «El Mago De OZ»\, un espectáculo de actores\, lleno de música\, bailes y canciones. Con muchísima innovación técnica\, que llenarán los teatros de magia y luz. Vídeo – proyecciones\, lásers\, bombas de humo y color\, maquinas de nieve. Con vestuarios llenos de color\, escenografías móviles\, muñecos… \nEntrada:\nAdultos: 3 € – Menores de 16 años: 2€ \n 
URL:https://ayuntamientodecasavieja.es/event/el-mago-de-oz/
LOCATION:Edificio Polivalente «La Almazara»\, C/ Plazuela\, Casavieja\, Ávila\, 05450\, España
CATEGORIES:Cultura,Ocio
ATTACH;FMTTYPE=image/png:https://ayuntamientodecasavieja.es/wp-content/uploads/2025/02/CircuitosEscenicos-MagoOz.png
END:VEVENT
END:VCALENDAR