BEGIN:VCALENDAR
VERSION:2.0
PRODID:-//Ayuntamiento de Casavieja - ECPv6.15.20//NONSGML v1.0//EN
CALSCALE:GREGORIAN
METHOD:PUBLISH
X-WR-CALNAME:Ayuntamiento de Casavieja
X-ORIGINAL-URL:https://ayuntamientodecasavieja.es
X-WR-CALDESC:Eventos para Ayuntamiento de Casavieja
REFRESH-INTERVAL;VALUE=DURATION:PT1H
X-Robots-Tag:noindex
X-PUBLISHED-TTL:PT1H
BEGIN:VTIMEZONE
TZID:Europe/Madrid
BEGIN:DAYLIGHT
TZOFFSETFROM:+0100
TZOFFSETTO:+0200
TZNAME:CEST
DTSTART:20240331T010000
END:DAYLIGHT
BEGIN:STANDARD
TZOFFSETFROM:+0200
TZOFFSETTO:+0100
TZNAME:CET
DTSTART:20241027T010000
END:STANDARD
BEGIN:DAYLIGHT
TZOFFSETFROM:+0100
TZOFFSETTO:+0200
TZNAME:CEST
DTSTART:20250330T010000
END:DAYLIGHT
BEGIN:STANDARD
TZOFFSETFROM:+0200
TZOFFSETTO:+0100
TZNAME:CET
DTSTART:20251026T010000
END:STANDARD
BEGIN:DAYLIGHT
TZOFFSETFROM:+0100
TZOFFSETTO:+0200
TZNAME:CEST
DTSTART:20260329T010000
END:DAYLIGHT
BEGIN:STANDARD
TZOFFSETFROM:+0200
TZOFFSETTO:+0100
TZNAME:CET
DTSTART:20261025T010000
END:STANDARD
END:VTIMEZONE
BEGIN:VEVENT
DTSTART;TZID=Europe/Madrid:20251227T120000
DTEND;TZID=Europe/Madrid:20251227T210000
DTSTAMP:20260421T183927
CREATED:20251112T175142Z
LAST-MODIFIED:20251113T080107Z
UID:21875-1766836800-1766869200@ayuntamientodecasavieja.es
SUMMARY:Mercado de Artesanía Navideño 2025
DESCRIPTION:El próximo sábado 27 de diciembre\, de 12:00 a 21:00 h\, la Plaza de San Bartolomé acogerá el Mercado de Artesanía de Casavieja\, organizado por Estación del Arte Gredos. \nUn encuentro para celebrar la creatividad\, el trabajo hecho a mano y el espíritu navideño\, junto al Belén Viviente. Se recomienda asistir con vestimenta tradicional o rústica. \nLa participación es gratuita para empadronados\, 10 € para socios EAG y 15 € para no socios.👉 Solo se admitirán artesanos que vendan sus propias creaciones. \n📩 Inscripciones abiertas en: https://forms.gle/xJJ2doPC9Zyo3za56
URL:https://ayuntamientodecasavieja.es/event/mercado-artesania-navideno-25/
LOCATION:Plaza de San Bartolomé\, Plaza de San Bartolomé\, Casavieja\, Ávila\, 05450\, España
CATEGORIES:Cultura,Ocio,Turismo
ATTACH;FMTTYPE=image/jpeg:https://ayuntamientodecasavieja.es/wp-content/uploads/2025/11/Mercado-Artesania-Navideno-2025.jpg
END:VEVENT
END:VCALENDAR