BEGIN:VCALENDAR
VERSION:2.0
PRODID:-//Ayuntamiento de Casavieja - ECPv6.15.20//NONSGML v1.0//EN
CALSCALE:GREGORIAN
METHOD:PUBLISH
X-WR-CALNAME:Ayuntamiento de Casavieja
X-ORIGINAL-URL:https://ayuntamientodecasavieja.es
X-WR-CALDESC:Eventos para Ayuntamiento de Casavieja
REFRESH-INTERVAL;VALUE=DURATION:PT1H
X-Robots-Tag:noindex
X-PUBLISHED-TTL:PT1H
BEGIN:VTIMEZONE
TZID:Europe/Madrid
BEGIN:DAYLIGHT
TZOFFSETFROM:+0100
TZOFFSETTO:+0200
TZNAME:CEST
DTSTART:20240331T010000
END:DAYLIGHT
BEGIN:STANDARD
TZOFFSETFROM:+0200
TZOFFSETTO:+0100
TZNAME:CET
DTSTART:20241027T010000
END:STANDARD
BEGIN:DAYLIGHT
TZOFFSETFROM:+0100
TZOFFSETTO:+0200
TZNAME:CEST
DTSTART:20250330T010000
END:DAYLIGHT
BEGIN:STANDARD
TZOFFSETFROM:+0200
TZOFFSETTO:+0100
TZNAME:CET
DTSTART:20251026T010000
END:STANDARD
BEGIN:DAYLIGHT
TZOFFSETFROM:+0100
TZOFFSETTO:+0200
TZNAME:CEST
DTSTART:20260329T010000
END:DAYLIGHT
BEGIN:STANDARD
TZOFFSETFROM:+0200
TZOFFSETTO:+0100
TZNAME:CET
DTSTART:20261025T010000
END:STANDARD
END:VTIMEZONE
BEGIN:VEVENT
DTSTART;TZID=Europe/Madrid:20250510T080000
DTEND;TZID=Europe/Madrid:20250510T160000
DTSTAMP:20260422T092726
CREATED:20250110T084424Z
LAST-MODIFIED:20250430T084348Z
UID:17357-1746864000-1746892800@ayuntamientodecasavieja.es
SUMMARY:III Marcha Senderista “A Calamochos”
DESCRIPTION:Una jornada perfecta para los amantes del senderismo\, que recorrerá un nuevo trazado circular por los Pinos Cascalbos\, el Puerto del Alacrán\, las Vaquerizas y los Calamochos\, en un recorrido desafiante pero accesible para todos aquellos que quieran disfrutar de la montaña de forma recreativa. \nLa marcha está incluida en el Circuito de Senderismo de Castilla y León de la FDMESCYL y en la Liga Ibérica de Senderismo 2025 de FEDME. \nMás información en la web del Club Calamochos Casavieja: www.cdcalamochoscasavieja.es/marchasenderistacalamochos \nInscripciones: www.rockthesport.com/es/evento/vii-circuito-de-senderismo-marcha-senderista-a-calamochos
URL:https://ayuntamientodecasavieja.es/event/iii-marcha-senderista-a-calamochos/
LOCATION:Fuente Helecha\, Paraje Fuente Helecha\, Casavieja\, Ávila\, 05450\, España
CATEGORIES:Deporte
ATTACH;FMTTYPE=image/png:https://ayuntamientodecasavieja.es/wp-content/uploads/2025/01/CARTEL-MSC-2025.png
ORGANIZER;CN="CD Calamochos Casavieja":MAILTO:cdcalamochoscasavieja@gmail.com
END:VEVENT
END:VCALENDAR